BEGIN:VCALENDAR
VERSION:2.0
PRODID:icalendar-ruby
CALSCALE:GREGORIAN
METHOD:PUBLISH
BEGIN:VEVENT
DTSTAMP:20260421T112855Z
UID:77-11106@lwac.org.au
DTSTART:20260503T070000Z
DTEND:20260503T070000Z
CLASS:PUBLIC
CREATED:20260421T124039
DESCRIPTION:You’re invited to a 4 session course called ‘3\,2\,1’\, e
 xploring the story of God\, the world and you.\nAll are welcome!\nSundays 
 3-4pm\, starting on 3rd May 2026 \nLiving Water Anglican Church (In the Co
 mmunity House)\, 78 Lower King Road\, Collingwood Heights.\nEXPRESS YOUR I
 NTEREST HERE
LAST-MODIFIED:20260421T124039
LOCATION:Living Water Anglican Church
SUMMARY:Discover Meaning\, Purpose…JESUS
URL;VALUE=URI:https://www.lwac.org.au/events/discover-meaning-purpose-jesus
 --77/2026-05-03
ATTACH;FILENAME=Screenshot 2026-01-14 at 3.04.53 pm.png;FMTTYPE=image/png:h
 ttps://dq5pwpg1q8ru0.cloudfront.net/2026/04/21/04/40/38/55686d22-94da-4063
 -ad8c-f1b878e2b58c/Screenshot%202026-01-14%20at%203.04.53%20pm.png
END:VEVENT
END:VCALENDAR
